BEGIN:VCALENDAR
VERSION:2.0
PRODID:-//pretix//pretix.eu//
BEGIN:VTIMEZONE
TZID:Europe/Berlin
BEGIN:STANDARD
DTSTART:20001029T040000
RRULE:FREQ=YEARLY;BYDAY=-1SU;BYMONTH=10
TZNAME:CET
TZOFFSETFROM:+0200
TZOFFSETTO:+0100
END:STANDARD
BEGIN:DAYLIGHT
DTSTART:20000326T030000
RRULE:FREQ=YEARLY;BYDAY=-1SU;BYMONTH=3
TZNAME:CEST
TZOFFSETFROM:+0100
TZOFFSETTO:+0200
END:DAYLIGHT
END:VTIMEZONE
BEGIN:VEVENT
UID:pretix-GrooveCrew-july-0@tickets.groovecrew.uk
DTSTART;TZID=Europe/Berlin:20240719T220000
DTEND;TZID=Europe/Berlin:20240720T040000
DESCRIPTION:Tickets: https://tickets.groovecrew.uk/july/\nOrganizer: Groove
  Crew Party
DTSTAMP:20260419T135811Z
LOCATION:Moustache Bar Dalston\, 58 Stoke Newington Rd\, London N16 7XB
SUMMARY:😎 LDN Groove Crew Summer Party 24 😎
END:VEVENT
END:VCALENDAR
