BEGIN:VCALENDAR
VERSION:2.0
PRODID:-//pretix//pretix.eu//
BEGIN:VTIMEZONE
TZID:Europe/London
BEGIN:STANDARD
DTSTART:20001029T030000
RRULE:FREQ=YEARLY;BYDAY=-1SU;BYMONTH=10
TZNAME:GMT
TZOFFSETFROM:+0100
TZOFFSETTO:+0000
END:STANDARD
BEGIN:DAYLIGHT
DTSTART:20000326T020000
RRULE:FREQ=YEARLY;BYDAY=-1SU;BYMONTH=3
TZNAME:BST
TZOFFSETFROM:+0000
TZOFFSETTO:+0100
END:DAYLIGHT
END:VTIMEZONE
BEGIN:VEVENT
UID:pretix-GrooveCrew-first-0@tickets.groovecrew.uk
DTSTART;TZID=Europe/London:20240113T210000
DTEND;TZID=Europe/London:20240114T030000
DESCRIPTION:Tickets: https://tickets.groovecrew.uk/first/\nOrganizer: Groov
 e Crew Party
DTSTAMP:20260419T135422Z
LOCATION:The Castle London\, basement\, https://www.thecastlelondon.com/bas
 ement
SUMMARY:London Groove Crew's First Anniversary
END:VEVENT
END:VCALENDAR
