BEGIN:VCALENDAR
VERSION:2.0
PRODID:-//pretix//pretix.eu//
BEGIN:VTIMEZONE
TZID:Europe/London
BEGIN:STANDARD
DTSTART:20001029T030000
RRULE:FREQ=YEARLY;BYDAY=-1SU;BYMONTH=10
TZNAME:GMT
TZOFFSETFROM:+0100
TZOFFSETTO:+0000
END:STANDARD
BEGIN:DAYLIGHT
DTSTART:20000326T020000
RRULE:FREQ=YEARLY;BYDAY=-1SU;BYMONTH=3
TZNAME:BST
TZOFFSETFROM:+0000
TZOFFSETTO:+0100
END:DAYLIGHT
END:VTIMEZONE
BEGIN:VEVENT
UID:pretix-GrooveCrew-after-0@tickets.groovecrew.uk
DTSTART;TZID=Europe/London:20240914T220000
DTEND;TZID=Europe/London:20240915T040000
DESCRIPTION:Tickets: https://tickets.groovecrew.uk/after/\nOrganizer: Groov
 e Crew Party
DTSTAMP:20260419T135024Z
LOCATION:Rolling Stock
SUMMARY:The After
END:VEVENT
END:VCALENDAR
